BEGIN:VCALENDAR
VERSION:2.0
PRODID:-//LOVO - ECPv6.3.2//NONSGML v1.0//EN
CALSCALE:GREGORIAN
METHOD:PUBLISH
X-WR-CALNAME:LOVO
X-ORIGINAL-URL:https://lovo.website
X-WR-CALDESC:Events for LOVO
REFRESH-INTERVAL;VALUE=DURATION:PT1H
X-Robots-Tag:noindex
X-PUBLISHED-TTL:PT1H
BEGIN:VTIMEZONE
TZID:UTC
BEGIN:STANDARD
TZOFFSETFROM:+0000
TZOFFSETTO:+0000
TZNAME:UTC
DTSTART:20230101T000000
END:STANDARD
END:VTIMEZONE
BEGIN:VEVENT
DTSTART;TZID=UTC:20240119T110000
DTEND;TZID=UTC:20240126T130000
DTSTAMP:20260420T044113
CREATED:20240122T120808Z
LAST-MODIFIED:20240122T120808Z
UID:10000016-1705662000-1706274000@lovo.website
SUMMARY:Creating a Vision Board
DESCRIPTION:A vision board is a fun and creative way to harness the proven power of\nvisualisation to enhance your well being and fulfil your dreams. During this two part workshop\, we will explore the concept of a vision board and delve into its\nsuccess stories. All participants will also have the opportunity to create their\nown personal vision board. The sessions will be interactive and filled with fun
URL:https://lovo.website/event/creating-a-vision-board/
LOCATION:LOVO\, 121 Peckham Park Road\, Peckham\, London\, Se15 6SX
CATEGORIES:WorkShop
ORGANIZER;CN="LOVO":MAILTO:hello@lovo.org.uk
END:VEVENT
BEGIN:VEVENT
DTSTART;TZID=UTC:20240118T124500
DTEND;TZID=UTC:20240118T143000
DTSTAMP:20260420T044113
CREATED:20240122T120314Z
LAST-MODIFIED:20240219T161740Z
UID:10000014-1705581900-1705588200@lovo.website
SUMMARY:Free ESOL Skills for Life and Work
DESCRIPTION:The classes will help you improve yourreading\, writing\, speaking\nand listening skills in English. Two levels will be offered: Pre-Entry\nand Entry. The classes will be complemented with a volunteering\nopportunity forleaners to practice Speaking English as well as\nbuilding workplace skills.\n\nThursday\n(Pre-entry) 11:00-12:30\n(Entry) 12:45-14:30
URL:https://lovo.website/event/free-esol-skills-for-life-and-work/2024-01-18/
LOCATION:LOVO\, 121 Peckham Park Road\, Peckham\, London\, Se15 6SX
CATEGORIES:WorkShop
ATTACH;FMTTYPE=image/webp:https://lovo.website/wp-content/uploads/2023/04/Esol-1-scaled-1.webp
ORGANIZER;CN="LOVO":MAILTO:hello@lovo.org.uk
END:VEVENT
BEGIN:VEVENT
DTSTART;TZID=UTC:20231207T123000
DTEND;TZID=UTC:20231207T133000
DTSTAMP:20260420T044113
CREATED:20230915T034754Z
LAST-MODIFIED:20230915T034754Z
UID:10000013-1701952200-1701955800@lovo.website
SUMMARY:Cooking training: Iranian
DESCRIPTION:
URL:https://lovo.website/event/cooking-training-iranian/
LOCATION:LOVO\, 121 Peckham Park Road\, Peckham\, London\, Se15 6SX
CATEGORIES:Courses
ORGANIZER;CN="LOVO":MAILTO:hello@lovo.org.uk
END:VEVENT
BEGIN:VEVENT
DTSTART;TZID=UTC:20231123T123000
DTEND;TZID=UTC:20231123T133000
DTSTAMP:20260420T044113
CREATED:20230915T034635Z
LAST-MODIFIED:20230915T034635Z
UID:10000012-1700742600-1700746200@lovo.website
SUMMARY:Cooking training: Brazilian
DESCRIPTION:
URL:https://lovo.website/event/cooking-training-brazilian/
LOCATION:LOVO\, 121 Peckham Park Road\, Peckham\, London\, Se15 6SX
CATEGORIES:Courses
ORGANIZER;CN="LOVO":MAILTO:hello@lovo.org.uk
END:VEVENT
BEGIN:VEVENT
DTSTART;TZID=UTC:20231102T110000
DTEND;TZID=UTC:20231207T123000
DTSTAMP:20260420T044113
CREATED:20230809T021605Z
LAST-MODIFIED:20230809T021605Z
UID:10000005-1698922800-1701952200@lovo.website
SUMMARY:Accredited assertiveness and confidence building skills
DESCRIPTION:
URL:https://lovo.website/event/accredited-assertiveness-and-confidence-building-skills/
LOCATION:LOVO\, 121 Peckham Park Road\, Peckham\, London\, Se15 6SX
CATEGORIES:Courses
ATTACH;FMTTYPE=image/jpeg:https://lovo.website/wp-content/uploads/2023/08/1520155511539.jpg
ORGANIZER;CN="LOVO":MAILTO:hello@lovo.org.uk
END:VEVENT
BEGIN:VEVENT
DTSTART;TZID=UTC:20231019T123000
DTEND;TZID=UTC:20231019T133000
DTSTAMP:20260420T044113
CREATED:20230915T033917Z
LAST-MODIFIED:20230915T033917Z
UID:10000011-1697718600-1697722200@lovo.website
SUMMARY:Cooking training: Jollof Rice
DESCRIPTION:Standalone
URL:https://lovo.website/event/cooking-training-jollof-rice/
LOCATION:LOVO\, 121 Peckham Park Road\, Peckham\, London\, Se15 6SX
CATEGORIES:Courses
ORGANIZER;CN="LOVO":MAILTO:hello@lovo.org.uk
END:VEVENT
BEGIN:VEVENT
DTSTART;TZID=UTC:20230928T134500
DTEND;TZID=UTC:20231130T144500
DTSTAMP:20260420T044113
CREATED:20230915T033333Z
LAST-MODIFIED:20230915T033333Z
UID:10000010-1695908700-1701355500@lovo.website
SUMMARY:Gratitude Workshop
DESCRIPTION:28 September\, 26 October\, 30 November\n\n\n\nMonthly
URL:https://lovo.website/event/gratitude-workshop/
LOCATION:LOVO\, 121 Peckham Park Road\, Peckham\, London\, Se15 6SX
CATEGORIES:WorkShop
ORGANIZER;CN="LOVO":MAILTO:hello@lovo.org.uk
END:VEVENT
BEGIN:VEVENT
DTSTART;TZID=UTC:20230914T123000
DTEND;TZID=UTC:20231207T133000
DTSTAMP:20260420T044113
CREATED:20230915T033132Z
LAST-MODIFIED:20230915T033132Z
UID:10000009-1694694600-1701955800@lovo.website
SUMMARY:Knitting club
DESCRIPTION:
URL:https://lovo.website/event/knitting-club/
LOCATION:LOVO\, 121 Peckham Park Road\, Peckham\, London\, Se15 6SX
CATEGORIES:Courses
ORGANIZER;CN="LOVO":MAILTO:hello@lovo.org.uk
END:VEVENT
BEGIN:VEVENT
DTSTART;TZID=UTC:20230914T110000
DTEND;TZID=UTC:20231123T123000
DTSTAMP:20260420T044113
CREATED:20230915T032838Z
LAST-MODIFIED:20230915T032838Z
UID:10000008-1694689200-1700742600@lovo.website
SUMMARY:Spanish Complete Beginner
DESCRIPTION:
URL:https://lovo.website/event/spanish-complete-beginner/
LOCATION:LOVO\, 121 Peckham Park Road\, Peckham\, London\, Se15 6SX
CATEGORIES:Courses
ORGANIZER;CN="LOVO":MAILTO:hello@lovo.org.uk
END:VEVENT
BEGIN:VEVENT
DTSTART;TZID=UTC:20230914T110000
DTEND;TZID=UTC:20231019T123000
DTSTAMP:20260420T044113
CREATED:20230809T021025Z
LAST-MODIFIED:20230809T021231Z
UID:10000004-1694689200-1697718600@lovo.website
SUMMARY:Accredited ENABLE Childcare course
DESCRIPTION:Duration : 6 weeks
URL:https://lovo.website/event/accredited-enable-childcare-course/
LOCATION:LOVO\, 121 Peckham Park Road\, Peckham\, London\, Se15 6SX
CATEGORIES:Courses
ATTACH;FMTTYPE=image/jpeg:https://lovo.website/wp-content/uploads/2022/10/Picture11.jpg
ORGANIZER;CN="LOVO":MAILTO:hello@lovo.org.uk
END:VEVENT
BEGIN:VEVENT
DTSTART;TZID=UTC:20230914T103000
DTEND;TZID=UTC:20231207T120000
DTSTAMP:20260420T044113
CREATED:20230810T065832Z
LAST-MODIFIED:20230810T065918Z
UID:10000006-1694687400-1701950400@lovo.website
SUMMARY:ESOL Pre-Entry
DESCRIPTION:Duration : 12 Weeks
URL:https://lovo.website/event/esol-pre-entry/
LOCATION:LOVO\, 121 Peckham Park Road\, Peckham\, London\, Se15 6SX
CATEGORIES:Courses
ATTACH;FMTTYPE=image/webp:https://lovo.website/wp-content/uploads/2023/04/Esol-1-scaled-1.webp
ORGANIZER;CN="LOVO":MAILTO:hello@lovo.org.uk
END:VEVENT
BEGIN:VEVENT
DTSTART;TZID=UTC:20230914T000500
DTEND;TZID=UTC:20231207T133500
DTSTAMP:20260420T044113
CREATED:20230810T070128Z
LAST-MODIFIED:20230810T070128Z
UID:10000007-1694649900-1701956100@lovo.website
SUMMARY:ESOL Entry
DESCRIPTION:Duration : 12 Weeks
URL:https://lovo.website/event/esol-entry/
LOCATION:LOVO\, 121 Peckham Park Road\, Peckham\, London\, Se15 6SX
CATEGORIES:Courses
ORGANIZER;CN="LOVO":MAILTO:hello@lovo.org.uk
END:VEVENT
END:VCALENDAR