BEGIN:VCALENDAR
VERSION:2.0
PRODID:-//LOVO - ECPv6.3.2//NONSGML v1.0//EN
CALSCALE:GREGORIAN
METHOD:PUBLISH
X-WR-CALNAME:LOVO
X-ORIGINAL-URL:https://lovo.website
X-WR-CALDESC:Events for LOVO
REFRESH-INTERVAL;VALUE=DURATION:PT1H
X-Robots-Tag:noindex
X-PUBLISHED-TTL:PT1H
BEGIN:VTIMEZONE
TZID:UTC
BEGIN:STANDARD
TZOFFSETFROM:+0000
TZOFFSETTO:+0000
TZNAME:UTC
DTSTART:20240101T000000
END:STANDARD
END:VTIMEZONE
BEGIN:VEVENT
DTSTART;TZID=UTC:20240223T103000
DTEND;TZID=UTC:20240223T130000
DTSTAMP:20260425T181752
CREATED:20240122T122351Z
LAST-MODIFIED:20240219T155831Z
UID:10000138-1708684200-1708693200@lovo.website
SUMMARY:Cross Country Cooking Workshops
DESCRIPTION:If you enjoy cooking\, eating and learning about different cultures\, then\nour cross-country cooking workshops are for you! These are practical\nworkshops facilitated by everyday women who are passionate about\ncooking and sharing their country’s dishes with other women.
URL:https://lovo.website/event/cross-country-cooking-workshops/2024-02-23/
LOCATION:LOVO\, 121 Peckham Park Road\, Peckham\, London\, Se15 6SX
CATEGORIES:WorkShop
ORGANIZER;CN="LOVO":MAILTO:hello@lovo.org.uk
END:VEVENT
END:VCALENDAR