BEGIN:VCALENDAR
VERSION:2.0
PRODID:-//LOVO - ECPv6.3.2//NONSGML v1.0//EN
CALSCALE:GREGORIAN
METHOD:PUBLISH
X-WR-CALNAME:LOVO
X-ORIGINAL-URL:https://lovo.website
X-WR-CALDESC:Events for LOVO
REFRESH-INTERVAL;VALUE=DURATION:PT1H
X-Robots-Tag:noindex
X-PUBLISHED-TTL:PT1H
BEGIN:VTIMEZONE
TZID:UTC
BEGIN:STANDARD
TZOFFSETFROM:+0000
TZOFFSETTO:+0000
TZNAME:UTC
DTSTART:20240101T000000
END:STANDARD
END:VTIMEZONE
BEGIN:VEVENT
DTSTART;TZID=UTC:20240215T110000
DTEND;TZID=UTC:20240215T130000
DTSTAMP:20260425T181748
CREATED:20240122T122505Z
LAST-MODIFIED:20240219T152110Z
UID:10000024-1707994800-1708002000@lovo.website
SUMMARY:Free Leather Hand crafted workshop
DESCRIPTION:These practical workshops will give participants the opportunity\nto gain a skill in leathercraft and create 1-2 items over a 3-5 week\nperiod.
URL:https://lovo.website/event/free-leather-hand-crafted-workshop/2024-02-15/
LOCATION:LOVO\, 121 Peckham Park Road\, Peckham\, London\, Se15 6SX
CATEGORIES:WorkShop
ORGANIZER;CN="LOVO":MAILTO:hello@lovo.org.uk
END:VEVENT
BEGIN:VEVENT
DTSTART;TZID=UTC:20240215T124500
DTEND;TZID=UTC:20240215T143000
DTSTAMP:20260425T181748
CREATED:20240122T120314Z
LAST-MODIFIED:20240219T161740Z
UID:10000164-1708001100-1708007400@lovo.website
SUMMARY:Free ESOL Skills for Life and Work
DESCRIPTION:The classes will help you improve yourreading\, writing\, speaking\nand listening skills in English. Two levels will be offered: Pre-Entry\nand Entry. The classes will be complemented with a volunteering\nopportunity forleaners to practice Speaking English as well as\nbuilding workplace skills.\n\nThursday\n(Pre-entry) 11:00-12:30\n(Entry) 12:45-14:30
URL:https://lovo.website/event/free-esol-skills-for-life-and-work/2024-02-15/
LOCATION:LOVO\, 121 Peckham Park Road\, Peckham\, London\, Se15 6SX
CATEGORIES:WorkShop
ATTACH;FMTTYPE=image/webp:https://lovo.website/wp-content/uploads/2023/04/Esol-1-scaled-1.webp
ORGANIZER;CN="LOVO":MAILTO:hello@lovo.org.uk
END:VEVENT
END:VCALENDAR