BEGIN:VCALENDAR
VERSION:2.0
PRODID:-//LOVO - ECPv6.3.2//NONSGML v1.0//EN
CALSCALE:GREGORIAN
METHOD:PUBLISH
X-ORIGINAL-URL:https://lovo.website
X-WR-CALDESC:Events for LOVO
REFRESH-INTERVAL;VALUE=DURATION:PT1H
X-Robots-Tag:noindex
X-PUBLISHED-TTL:PT1H
BEGIN:VTIMEZONE
TZID:UTC
BEGIN:STANDARD
TZOFFSETFROM:+0000
TZOFFSETTO:+0000
TZNAME:UTC
DTSTART:20240101T000000
END:STANDARD
END:VTIMEZONE
BEGIN:VEVENT
DTSTART;TZID=UTC:20240306T110000
DTEND;TZID=UTC:20240306T130000
DTSTAMP:20260421T181312
CREATED:20240219T153147Z
LAST-MODIFIED:20240219T163747Z
UID:10000119-1709722800-1709730000@lovo.website
SUMMARY:Free Over 55’s Healthy Living Project
DESCRIPTION:This is a project that would deliver various uplifting\nactivities to promote the health and wellbeing of female\nsenior citizens which will inlude health checks and talks\nwith professionals\, healthy cooking and eating as well as\nfitness taster sessions
URL:https://lovo.website/event/free-over-55s-healthy-living-project/2024-03-06/
LOCATION:LOVO\, 121 Peckham Park Road\, Peckham\, London\, Se15 6SX
CATEGORIES:Project
ORGANIZER;CN="LOVO":MAILTO:hello@lovo.org.uk
END:VEVENT
BEGIN:VEVENT
DTSTART;TZID=UTC:20240228T110000
DTEND;TZID=UTC:20240228T130000
DTSTAMP:20260421T181312
CREATED:20240219T153147Z
LAST-MODIFIED:20240219T163747Z
UID:10000118-1709118000-1709125200@lovo.website
SUMMARY:Free Over 55’s Healthy Living Project
DESCRIPTION:This is a project that would deliver various uplifting\nactivities to promote the health and wellbeing of female\nsenior citizens which will inlude health checks and talks\nwith professionals\, healthy cooking and eating as well as\nfitness taster sessions
URL:https://lovo.website/event/free-over-55s-healthy-living-project/2024-02-28/
LOCATION:LOVO\, 121 Peckham Park Road\, Peckham\, London\, Se15 6SX
CATEGORIES:Project
ORGANIZER;CN="LOVO":MAILTO:hello@lovo.org.uk
END:VEVENT
BEGIN:VEVENT
DTSTART;TZID=UTC:20240222T120000
DTEND;TZID=UTC:20240222T130000
DTSTAMP:20260421T181312
CREATED:20240122T121742Z
LAST-MODIFIED:20240219T160144Z
UID:10000143-1708603200-1708606800@lovo.website
SUMMARY:Migrants and Refugee Peer Support Group
DESCRIPTION:This is a support group for new female migrants and\nrefugees who have challenges with fully integrating\ninto the British society due to barriers such as limited\nEnglish as they can only fluently speakin their native\nlanguages including Spanish \,Portuguese and so on .
URL:https://lovo.website/event/migrants-and-refugee-peer-support-group/2024-02-22/
LOCATION:LOVO\, 121 Peckham Park Road\, Peckham\, London\, Se15 6SX
CATEGORIES:Project
ORGANIZER;CN="LOVO":MAILTO:hello@lovo.org.uk
END:VEVENT
BEGIN:VEVENT
DTSTART;TZID=UTC:20240221T110000
DTEND;TZID=UTC:20240221T130000
DTSTAMP:20260421T181312
CREATED:20240219T153147Z
LAST-MODIFIED:20240219T163747Z
UID:10000117-1708513200-1708520400@lovo.website
SUMMARY:Free Over 55’s Healthy Living Project
DESCRIPTION:This is a project that would deliver various uplifting\nactivities to promote the health and wellbeing of female\nsenior citizens which will inlude health checks and talks\nwith professionals\, healthy cooking and eating as well as\nfitness taster sessions
URL:https://lovo.website/event/free-over-55s-healthy-living-project/2024-02-21/
LOCATION:LOVO\, 121 Peckham Park Road\, Peckham\, London\, Se15 6SX
CATEGORIES:Project
ORGANIZER;CN="LOVO":MAILTO:hello@lovo.org.uk
END:VEVENT
BEGIN:VEVENT
DTSTART;TZID=UTC:20240215T120000
DTEND;TZID=UTC:20240215T130000
DTSTAMP:20260421T181312
CREATED:20240122T121742Z
LAST-MODIFIED:20240219T160144Z
UID:10000142-1707998400-1708002000@lovo.website
SUMMARY:Migrants and Refugee Peer Support Group
DESCRIPTION:This is a support group for new female migrants and\nrefugees who have challenges with fully integrating\ninto the British society due to barriers such as limited\nEnglish as they can only fluently speakin their native\nlanguages including Spanish \,Portuguese and so on .
URL:https://lovo.website/event/migrants-and-refugee-peer-support-group/2024-02-15/
LOCATION:LOVO\, 121 Peckham Park Road\, Peckham\, London\, Se15 6SX
CATEGORIES:Project
ORGANIZER;CN="LOVO":MAILTO:hello@lovo.org.uk
END:VEVENT
BEGIN:VEVENT
DTSTART;TZID=UTC:20240214T110000
DTEND;TZID=UTC:20240214T130000
DTSTAMP:20260421T181312
CREATED:20240219T153147Z
LAST-MODIFIED:20240219T163747Z
UID:10000116-1707908400-1707915600@lovo.website
SUMMARY:Free Over 55’s Healthy Living Project
DESCRIPTION:This is a project that would deliver various uplifting\nactivities to promote the health and wellbeing of female\nsenior citizens which will inlude health checks and talks\nwith professionals\, healthy cooking and eating as well as\nfitness taster sessions
URL:https://lovo.website/event/free-over-55s-healthy-living-project/2024-02-14/
LOCATION:LOVO\, 121 Peckham Park Road\, Peckham\, London\, Se15 6SX
CATEGORIES:Project
ORGANIZER;CN="LOVO":MAILTO:hello@lovo.org.uk
END:VEVENT
BEGIN:VEVENT
DTSTART;TZID=UTC:20240208T120000
DTEND;TZID=UTC:20240208T130000
DTSTAMP:20260421T181312
CREATED:20240122T121742Z
LAST-MODIFIED:20240219T160144Z
UID:10000141-1707393600-1707397200@lovo.website
SUMMARY:Migrants and Refugee Peer Support Group
DESCRIPTION:This is a support group for new female migrants and\nrefugees who have challenges with fully integrating\ninto the British society due to barriers such as limited\nEnglish as they can only fluently speakin their native\nlanguages including Spanish \,Portuguese and so on .
URL:https://lovo.website/event/migrants-and-refugee-peer-support-group/2024-02-08/
LOCATION:LOVO\, 121 Peckham Park Road\, Peckham\, London\, Se15 6SX
CATEGORIES:Project
ORGANIZER;CN="LOVO":MAILTO:hello@lovo.org.uk
END:VEVENT
BEGIN:VEVENT
DTSTART;TZID=UTC:20240207T110000
DTEND;TZID=UTC:20240207T130000
DTSTAMP:20260421T181312
CREATED:20240219T153147Z
LAST-MODIFIED:20240219T163747Z
UID:10000115-1707303600-1707310800@lovo.website
SUMMARY:Free Over 55’s Healthy Living Project
DESCRIPTION:This is a project that would deliver various uplifting\nactivities to promote the health and wellbeing of female\nsenior citizens which will inlude health checks and talks\nwith professionals\, healthy cooking and eating as well as\nfitness taster sessions
URL:https://lovo.website/event/free-over-55s-healthy-living-project/2024-02-07/
LOCATION:LOVO\, 121 Peckham Park Road\, Peckham\, London\, Se15 6SX
CATEGORIES:Project
ORGANIZER;CN="LOVO":MAILTO:hello@lovo.org.uk
END:VEVENT
BEGIN:VEVENT
DTSTART;TZID=UTC:20240201T120000
DTEND;TZID=UTC:20240201T130000
DTSTAMP:20260421T181312
CREATED:20240122T121742Z
LAST-MODIFIED:20240219T160144Z
UID:10000140-1706788800-1706792400@lovo.website
SUMMARY:Migrants and Refugee Peer Support Group
DESCRIPTION:This is a support group for new female migrants and\nrefugees who have challenges with fully integrating\ninto the British society due to barriers such as limited\nEnglish as they can only fluently speakin their native\nlanguages including Spanish \,Portuguese and so on .
URL:https://lovo.website/event/migrants-and-refugee-peer-support-group/2024-02-01/
LOCATION:LOVO\, 121 Peckham Park Road\, Peckham\, London\, Se15 6SX
CATEGORIES:Project
ORGANIZER;CN="LOVO":MAILTO:hello@lovo.org.uk
END:VEVENT
BEGIN:VEVENT
DTSTART;TZID=UTC:20240125T120000
DTEND;TZID=UTC:20240125T130000
DTSTAMP:20260421T181312
CREATED:20240122T121742Z
LAST-MODIFIED:20240219T160144Z
UID:10000139-1706184000-1706187600@lovo.website
SUMMARY:Migrants and Refugee Peer Support Group
DESCRIPTION:This is a support group for new female migrants and\nrefugees who have challenges with fully integrating\ninto the British society due to barriers such as limited\nEnglish as they can only fluently speakin their native\nlanguages including Spanish \,Portuguese and so on .
URL:https://lovo.website/event/migrants-and-refugee-peer-support-group/2024-01-25/
LOCATION:LOVO\, 121 Peckham Park Road\, Peckham\, London\, Se15 6SX
CATEGORIES:Project
ORGANIZER;CN="LOVO":MAILTO:hello@lovo.org.uk
END:VEVENT
END:VCALENDAR