BEGIN:VCALENDAR
VERSION:2.0
PRODID:-//LOVO - ECPv6.3.2//NONSGML v1.0//EN
CALSCALE:GREGORIAN
METHOD:PUBLISH
X-ORIGINAL-URL:https://lovo.website
X-WR-CALDESC:Events for LOVO
REFRESH-INTERVAL;VALUE=DURATION:PT1H
X-Robots-Tag:noindex
X-PUBLISHED-TTL:PT1H
BEGIN:VTIMEZONE
TZID:UTC
BEGIN:STANDARD
TZOFFSETFROM:+0000
TZOFFSETTO:+0000
TZNAME:UTC
DTSTART:20240101T000000
END:STANDARD
END:VTIMEZONE
BEGIN:VEVENT
DTSTART;TZID=UTC:20240202T113000
DTEND;TZID=UTC:20240202T140000
DTSTAMP:20260423T080344
CREATED:20240122T120631Z
LAST-MODIFIED:20240219T154341Z
UID:10000015-1706873400-1706882400@lovo.website
SUMMARY:Six weeks Personal Assessment Course
DESCRIPTION:This is a 6-week course in which participants are encouraged to go on a journey of selfdiscovery by assessing their existing skills\, developing confidence\, and identifying clear\npathways to attaining their personal or career goals.\nThe course will help participants take inventory oftheir skills and talents and use this to set\npersonal goals\, whether these relate to work\, relationships\, study\, the living environment\,\nor anything else. Participants then work with mentors to develop an action plan to pursue\ntheir chosen goals.
URL:https://lovo.website/event/six-weeks-personal-assessment-course/2024-02-02/
LOCATION:LOVO\, 121 Peckham Park Road\, Peckham\, London\, Se15 6SX
CATEGORIES:Courses
ATTACH;FMTTYPE=image/png:https://lovo.website/wp-content/uploads/2023/04/sl-5.png
ORGANIZER;CN="LOVO":MAILTO:hello@lovo.org.uk
END:VEVENT
BEGIN:VEVENT
DTSTART;TZID=UTC:20240206T110000
DTEND;TZID=UTC:20240206T130000
DTSTAMP:20260423T080344
CREATED:20240122T121042Z
LAST-MODIFIED:20240219T154651Z
UID:10000125-1707217200-1707224400@lovo.website
SUMMARY:Textile Accessories Course
DESCRIPTION:In this course participants would make a piece of\njewellery each (necklace or bracelet) and a small coin\npurse. Participants would need to attend from the\nstart to give enough time to make and complete\nitems.
URL:https://lovo.website/event/textile-accessories-course/2024-02-06/
LOCATION:LOVO\, 121 Peckham Park Road\, Peckham\, London\, Se15 6SX
CATEGORIES:Courses
ORGANIZER;CN="LOVO":MAILTO:hello@lovo.org.uk
END:VEVENT
BEGIN:VEVENT
DTSTART;TZID=UTC:20240209T113000
DTEND;TZID=UTC:20240209T140000
DTSTAMP:20260423T080344
CREATED:20240122T120631Z
LAST-MODIFIED:20240219T154341Z
UID:10000121-1707478200-1707487200@lovo.website
SUMMARY:Six weeks Personal Assessment Course
DESCRIPTION:This is a 6-week course in which participants are encouraged to go on a journey of selfdiscovery by assessing their existing skills\, developing confidence\, and identifying clear\npathways to attaining their personal or career goals.\nThe course will help participants take inventory oftheir skills and talents and use this to set\npersonal goals\, whether these relate to work\, relationships\, study\, the living environment\,\nor anything else. Participants then work with mentors to develop an action plan to pursue\ntheir chosen goals.
URL:https://lovo.website/event/six-weeks-personal-assessment-course/2024-02-09/
LOCATION:LOVO\, 121 Peckham Park Road\, Peckham\, London\, Se15 6SX
CATEGORIES:Courses
ATTACH;FMTTYPE=image/png:https://lovo.website/wp-content/uploads/2023/04/sl-5.png
ORGANIZER;CN="LOVO":MAILTO:hello@lovo.org.uk
END:VEVENT
BEGIN:VEVENT
DTSTART;TZID=UTC:20240213T110000
DTEND;TZID=UTC:20240213T130000
DTSTAMP:20260423T080344
CREATED:20240122T121042Z
LAST-MODIFIED:20240219T154651Z
UID:10000126-1707822000-1707829200@lovo.website
SUMMARY:Textile Accessories Course
DESCRIPTION:In this course participants would make a piece of\njewellery each (necklace or bracelet) and a small coin\npurse. Participants would need to attend from the\nstart to give enough time to make and complete\nitems.
URL:https://lovo.website/event/textile-accessories-course/2024-02-13/
LOCATION:LOVO\, 121 Peckham Park Road\, Peckham\, London\, Se15 6SX
CATEGORIES:Courses
ORGANIZER;CN="LOVO":MAILTO:hello@lovo.org.uk
END:VEVENT
BEGIN:VEVENT
DTSTART;TZID=UTC:20240216T113000
DTEND;TZID=UTC:20240216T140000
DTSTAMP:20260423T080344
CREATED:20240122T120631Z
LAST-MODIFIED:20240219T154341Z
UID:10000122-1708083000-1708092000@lovo.website
SUMMARY:Six weeks Personal Assessment Course
DESCRIPTION:This is a 6-week course in which participants are encouraged to go on a journey of selfdiscovery by assessing their existing skills\, developing confidence\, and identifying clear\npathways to attaining their personal or career goals.\nThe course will help participants take inventory oftheir skills and talents and use this to set\npersonal goals\, whether these relate to work\, relationships\, study\, the living environment\,\nor anything else. Participants then work with mentors to develop an action plan to pursue\ntheir chosen goals.
URL:https://lovo.website/event/six-weeks-personal-assessment-course/2024-02-16/
LOCATION:LOVO\, 121 Peckham Park Road\, Peckham\, London\, Se15 6SX
CATEGORIES:Courses
ATTACH;FMTTYPE=image/png:https://lovo.website/wp-content/uploads/2023/04/sl-5.png
ORGANIZER;CN="LOVO":MAILTO:hello@lovo.org.uk
END:VEVENT
BEGIN:VEVENT
DTSTART;TZID=UTC:20240223T113000
DTEND;TZID=UTC:20240223T140000
DTSTAMP:20260423T080344
CREATED:20240122T120631Z
LAST-MODIFIED:20240219T154341Z
UID:10000123-1708687800-1708696800@lovo.website
SUMMARY:Six weeks Personal Assessment Course
DESCRIPTION:This is a 6-week course in which participants are encouraged to go on a journey of selfdiscovery by assessing their existing skills\, developing confidence\, and identifying clear\npathways to attaining their personal or career goals.\nThe course will help participants take inventory oftheir skills and talents and use this to set\npersonal goals\, whether these relate to work\, relationships\, study\, the living environment\,\nor anything else. Participants then work with mentors to develop an action plan to pursue\ntheir chosen goals.
URL:https://lovo.website/event/six-weeks-personal-assessment-course/2024-02-23/
LOCATION:LOVO\, 121 Peckham Park Road\, Peckham\, London\, Se15 6SX
CATEGORIES:Courses
ATTACH;FMTTYPE=image/png:https://lovo.website/wp-content/uploads/2023/04/sl-5.png
ORGANIZER;CN="LOVO":MAILTO:hello@lovo.org.uk
END:VEVENT
END:VCALENDAR