BEGIN:VCALENDAR
VERSION:2.0
PRODID:-//LOVO - ECPv6.3.2//NONSGML v1.0//EN
CALSCALE:GREGORIAN
METHOD:PUBLISH
X-WR-CALNAME:LOVO
X-ORIGINAL-URL:https://lovo.website
X-WR-CALDESC:Events for LOVO
REFRESH-INTERVAL;VALUE=DURATION:PT1H
X-Robots-Tag:noindex
X-PUBLISHED-TTL:PT1H
BEGIN:VTIMEZONE
TZID:Europe/London
BEGIN:DAYLIGHT
TZOFFSETFROM:+0000
TZOFFSETTO:+0100
TZNAME:BST
DTSTART:20250330T010000
END:DAYLIGHT
BEGIN:STANDARD
TZOFFSETFROM:+0100
TZOFFSETTO:+0000
TZNAME:GMT
DTSTART:20251026T010000
END:STANDARD
END:VTIMEZONE
BEGIN:VEVENT
DTSTART;TZID=Europe/London:20251218T103000
DTEND;TZID=Europe/London:20251218T150000
DTSTAMP:20260419T155020
CREATED:20251212T130707Z
LAST-MODIFIED:20251212T142154Z
UID:10002298-1766053800-1766070000@lovo.website
SUMMARY:End of the Year Party 2025
DESCRIPTION:End of Year Party 2025 – at Peckham site \nJoin us as we celebrate the close of another remarkable year at our End of Year Party 2025\, taking place on December 18th from 10:30 AM to 3:00 PM. This festive gathering will bring together volunteers\, partners\, community members\, and staff for a day filled with gratitude\, celebration\, and holiday joy.\nThe event will begin with a warm welcome\, followed by an introduction to the exciting Town Centre Thrive Project at 11:00 AM\, showcasing our vision and plans for the year ahead. \nAt 11:30 AM\, we will proudly present Volunteer Certificates and other recognitions\, honouring the incredible individuals whose dedication and support have helped us flourish in 2025. \nA delicious Christmas Lunch will be served at 12:30 PM\, offering everyone a chance to relax\, connect\, and enjoy the festive spirit. \nAt 1:00 PM\, our Gratitude Talk Panel will highlight stories of impact\, appreciation\, and community resilience\, reminding us why our work together matters. \nWe’ll close the afternoon with singing starting at 2:00 PM\, spreading cheer and ending the celebration on a joyful\, lively note. \nWe look forward to celebrating with you and welcoming the upcoming year with warmth\, unity\, and gratitude.
URL:https://lovo.website/event/end-of-the-year-party-2025/
END:VEVENT
END:VCALENDAR