BEGIN:VCALENDAR
VERSION:2.0
PRODID:-//LOVO - ECPv6.3.2//NONSGML v1.0//EN
CALSCALE:GREGORIAN
METHOD:PUBLISH
X-WR-CALNAME:LOVO
X-ORIGINAL-URL:https://lovo.website
X-WR-CALDESC:Events for LOVO
REFRESH-INTERVAL;VALUE=DURATION:PT1H
X-Robots-Tag:noindex
X-PUBLISHED-TTL:PT1H
BEGIN:VTIMEZONE
TZID:Europe/London
BEGIN:DAYLIGHT
TZOFFSETFROM:+0000
TZOFFSETTO:+0100
TZNAME:BST
DTSTART:20250330T010000
END:DAYLIGHT
BEGIN:STANDARD
TZOFFSETFROM:+0100
TZOFFSETTO:+0000
TZNAME:GMT
DTSTART:20251026T010000
END:STANDARD
END:VTIMEZONE
BEGIN:VEVENT
DTSTART;TZID=Europe/London:20250930T103000
DTEND;TZID=Europe/London:20250930T120000
DTSTAMP:20260421T103613
CREATED:20250917T131520Z
LAST-MODIFIED:20250917T131520Z
UID:10002091-1759228200-1759233600@lovo.website
SUMMARY:Maternal Journal Event - New Mums Peer Support Group
DESCRIPTION:
URL:https://lovo.website/event/maternal-journal-event-new-mums-peer-support-group/
END:VEVENT
BEGIN:VEVENT
DTSTART;TZID=Europe/London:20250930T103000
DTEND;TZID=Europe/London:20250930T143000
DTSTAMP:20260421T103613
CREATED:20250917T134235Z
LAST-MODIFIED:20250917T134235Z
UID:10002101-1759228200-1759242600@lovo.website
SUMMARY:LOVO Hobby Corner
DESCRIPTION:A relaxed and friendly space to explore your creativity\, learn new skills\, and enjoy time with others. Whether it’s crafts\, games\, puzzles\, or simply sharing hobbies with friends\, Hobby Corner is the perfect place to unwind and connect.
URL:https://lovo.website/event/lovo-hobby-corner/2025-09-30/
END:VEVENT
BEGIN:VEVENT
DTSTART;TZID=Europe/London:20250930T110000
DTEND;TZID=Europe/London:20250930T130000
DTSTAMP:20260421T103613
CREATED:20250807T121429Z
LAST-MODIFIED:20250807T121429Z
UID:10001950-1759230000-1759237200@lovo.website
SUMMARY:ESOL Entry 1
DESCRIPTION:
URL:https://lovo.website/event/esol-entry-1/2025-09-30/
END:VEVENT
BEGIN:VEVENT
DTSTART;TZID=Europe/London:20250930T140000
DTEND;TZID=Europe/London:20250930T150000
DTSTAMP:20260421T103613
CREATED:20250917T134533Z
LAST-MODIFIED:20250917T134533Z
UID:10002153-1759240800-1759244400@lovo.website
SUMMARY:IT Support - Drop In
DESCRIPTION:
URL:https://lovo.website/event/it-support-drop-in/2025-09-30/
END:VEVENT
END:VCALENDAR