BEGIN:VCALENDAR
VERSION:2.0
PRODID:-//LOVO - ECPv6.3.2//NONSGML v1.0//EN
CALSCALE:GREGORIAN
METHOD:PUBLISH
X-ORIGINAL-URL:https://lovo.website
X-WR-CALDESC:Events for LOVO
REFRESH-INTERVAL;VALUE=DURATION:PT1H
X-Robots-Tag:noindex
X-PUBLISHED-TTL:PT1H
BEGIN:VTIMEZONE
TZID:Europe/London
BEGIN:DAYLIGHT
TZOFFSETFROM:+0000
TZOFFSETTO:+0100
TZNAME:BST
DTSTART:20250330T010000
END:DAYLIGHT
BEGIN:STANDARD
TZOFFSETFROM:+0100
TZOFFSETTO:+0000
TZNAME:GMT
DTSTART:20251026T010000
END:STANDARD
END:VTIMEZONE
BEGIN:VEVENT
DTSTART;TZID=Europe/London:20250912T110000
DTEND;TZID=Europe/London:20250912T130000
DTSTAMP:20260421T103753
CREATED:20250807T123622Z
LAST-MODIFIED:20250829T142021Z
UID:10002060-1757674800-1757682000@lovo.website
SUMMARY:ESOL Improvers Class
DESCRIPTION:
URL:https://lovo.website/event/esol-pre-entry-bermondsey-site-2/2025-09-12/
END:VEVENT
BEGIN:VEVENT
DTSTART;TZID=Europe/London:20250912T133000
DTEND;TZID=Europe/London:20250912T143000
DTSTAMP:20260421T103753
CREATED:20250917T135348Z
LAST-MODIFIED:20251009T115347Z
UID:10002182-1757683800-1757687400@lovo.website
SUMMARY:Gratitude Peer Support Group
DESCRIPTION:
URL:https://lovo.website/event/gratitude-peer-support-group/2025-09-12/
END:VEVENT
END:VCALENDAR