BEGIN:VCALENDAR
VERSION:2.0
PRODID:-//LOVO - ECPv6.3.2//NONSGML v1.0//EN
CALSCALE:GREGORIAN
METHOD:PUBLISH
X-WR-CALNAME:LOVO
X-ORIGINAL-URL:https://lovo.website
X-WR-CALDESC:Events for LOVO
REFRESH-INTERVAL;VALUE=DURATION:PT1H
X-Robots-Tag:noindex
X-PUBLISHED-TTL:PT1H
BEGIN:VTIMEZONE
TZID:Europe/London
BEGIN:DAYLIGHT
TZOFFSETFROM:+0000
TZOFFSETTO:+0100
TZNAME:BST
DTSTART:20250330T010000
END:DAYLIGHT
BEGIN:STANDARD
TZOFFSETFROM:+0100
TZOFFSETTO:+0000
TZNAME:GMT
DTSTART:20251026T010000
END:STANDARD
END:VTIMEZONE
BEGIN:VEVENT
DTSTART;TZID=Europe/London:20250829T130000
DTEND;TZID=Europe/London:20250829T140000
DTSTAMP:20260421T104459
CREATED:20250822T162807Z
LAST-MODIFIED:20250822T162807Z
UID:10002075-1756472400-1756476000@lovo.website
SUMMARY:Salsa Class
DESCRIPTION:
URL:https://lovo.website/event/salsa-class/
END:VEVENT
END:VCALENDAR