BEGIN:VCALENDAR
VERSION:2.0
PRODID:-//LOVO - ECPv6.3.2//NONSGML v1.0//EN
CALSCALE:GREGORIAN
METHOD:PUBLISH
X-ORIGINAL-URL:https://lovo.website
X-WR-CALDESC:Events for LOVO
REFRESH-INTERVAL;VALUE=DURATION:PT1H
X-Robots-Tag:noindex
X-PUBLISHED-TTL:PT1H
BEGIN:VTIMEZONE
TZID:UTC
BEGIN:STANDARD
TZOFFSETFROM:+0000
TZOFFSETTO:+0000
TZNAME:UTC
DTSTART:20240101T000000
END:STANDARD
END:VTIMEZONE
BEGIN:VEVENT
DTSTART;TZID=UTC:20240529T124500
DTEND;TZID=UTC:20240529T140000
DTSTAMP:20260421T104639
CREATED:20240409T101519Z
LAST-MODIFIED:20240410T093805Z
UID:10000200-1716986700-1716991200@lovo.website
SUMMARY:Confidence and Assertiveness Course (6 weeks)
DESCRIPTION:Start your journey to greater confidence\, express yourself with clarity. Explore effective strategies to set boundaries. £10 for 6 weeks course \n\n \n\n 
URL:https://lovo.website/event/confidence-and-assertiveness-course/
LOCATION:LOVO\, 121 Peckham Park Road\, Peckham\, London\, Se15 6SX
CATEGORIES:Courses
ATTACH;FMTTYPE=image/jpeg:https://lovo.website/wp-content/uploads/2024/04/Confidence-and-Assertiveness.jpg
ORGANIZER;CN="LOVO":MAILTO:hello@lovo.org.uk
END:VEVENT
END:VCALENDAR