BEGIN:VCALENDAR
VERSION:2.0
PRODID:-//LOVO - ECPv6.3.2//NONSGML v1.0//EN
CALSCALE:GREGORIAN
METHOD:PUBLISH
X-WR-CALNAME:LOVO
X-ORIGINAL-URL:https://lovo.website
X-WR-CALDESC:Events for LOVO
REFRESH-INTERVAL;VALUE=DURATION:PT1H
X-Robots-Tag:noindex
X-PUBLISHED-TTL:PT1H
BEGIN:VTIMEZONE
TZID:Europe/London
BEGIN:DAYLIGHT
TZOFFSETFROM:+0000
TZOFFSETTO:+0100
TZNAME:BST
DTSTART:20240331T010000
END:DAYLIGHT
BEGIN:STANDARD
TZOFFSETFROM:+0100
TZOFFSETTO:+0000
TZNAME:GMT
DTSTART:20241027T010000
END:STANDARD
TZID:UTC
BEGIN:STANDARD
TZOFFSETFROM:+0000
TZOFFSETTO:+0000
TZNAME:UTC
DTSTART:20240101T000000
END:STANDARD
END:VTIMEZONE
BEGIN:VEVENT
DTSTART;TZID=Europe/London:20240516T080000
DTEND;TZID=Europe/London:20240516T170000
DTSTAMP:20260421T192906
CREATED:20240516T123930Z
LAST-MODIFIED:20240516T123930Z
UID:10000404-1715846400-1715878800@lovo.website
SUMMARY:Leather Handcraft Workshop
DESCRIPTION:
URL:https://lovo.website/event/leather-handcraft-workshop/2024-05-16/1/
END:VEVENT
BEGIN:VEVENT
DTSTART;TZID=UTC:20240516T110000
DTEND;TZID=UTC:20240516T130000
DTSTAMP:20260421T192906
CREATED:20240410T094410Z
LAST-MODIFIED:20240410T095230Z
UID:10000296-1715857200-1715864400@lovo.website
SUMMARY:ESOL Pre-Entry Level
DESCRIPTION:The classes will help you improve your reading\, writing\, speaking and listening skills in English. Two levels will be offered: Pre-entry and Entry
URL:https://lovo.website/event/esol-pre-entry-level/2024-05-16/
END:VEVENT
BEGIN:VEVENT
DTSTART;TZID=UTC:20240516T110000
DTEND;TZID=UTC:20240516T130000
DTSTAMP:20260421T192906
CREATED:20240410T133727Z
LAST-MODIFIED:20240410T133727Z
UID:10000316-1715857200-1715864400@lovo.website
SUMMARY:Benefit Support with a legal professional Betty
DESCRIPTION:Personalized assistance\, practical tips\, and access to vital resources\, this session is your opportunity to secure the benefits you deserve.
URL:https://lovo.website/event/benefit-support-with-a-legal-professional-betty/2024-05-16/
END:VEVENT
BEGIN:VEVENT
DTSTART;TZID=Europe/London:20240516T120000
DTEND;TZID=Europe/London:20240516T140000
DTSTAMP:20260421T192906
CREATED:20240516T123930Z
LAST-MODIFIED:20240516T123930Z
UID:10000405-1715860800-1715868000@lovo.website
SUMMARY:Leather Handcraft Workshop
DESCRIPTION:
URL:https://lovo.website/event/leather-handcraft-workshop/2024-05-16/2/
END:VEVENT
BEGIN:VEVENT
DTSTART;TZID=UTC:20240516T123000
DTEND;TZID=UTC:20240516T140000
DTSTAMP:20260421T192906
CREATED:20240410T094520Z
LAST-MODIFIED:20240410T095321Z
UID:10000306-1715862600-1715868000@lovo.website
SUMMARY:ESOL Entry Level
DESCRIPTION:The classes will help you improve your reading\, writing\, speaking and listening skills in English. 
URL:https://lovo.website/event/esol-entry-level/2024-05-16/
END:VEVENT
END:VCALENDAR