BEGIN:VCALENDAR
VERSION:2.0
PRODID:-//LOVO - ECPv6.3.2//NONSGML v1.0//EN
CALSCALE:GREGORIAN
METHOD:PUBLISH
X-ORIGINAL-URL:https://lovo.website
X-WR-CALDESC:Events for LOVO
REFRESH-INTERVAL;VALUE=DURATION:PT1H
X-Robots-Tag:noindex
X-PUBLISHED-TTL:PT1H
BEGIN:VTIMEZONE
TZID:UTC
BEGIN:STANDARD
TZOFFSETFROM:+0000
TZOFFSETTO:+0000
TZNAME:UTC
DTSTART:20240101T000000
END:STANDARD
END:VTIMEZONE
BEGIN:VEVENT
DTSTART;TZID=UTC:20240416T110000
DTEND;TZID=UTC:20240416T130000
DTSTAMP:20260423T160120
CREATED:20240409T090833Z
LAST-MODIFIED:20240409T091003Z
UID:10000171-1713265200-1713272400@lovo.website
SUMMARY:IT Support
DESCRIPTION:Get assistance with CV writing\, job applications\, and technical troubleshooting. Empower yourself and advance your career in a supportive community environment.
URL:https://lovo.website/event/it-support/2024-04-16/
LOCATION:LOVO\, 121 Peckham Park Road\, Peckham\, London\, Se15 6SX
ORGANIZER;CN="LOVO":MAILTO:hello@lovo.org.uk
END:VEVENT
BEGIN:VEVENT
DTSTART;TZID=UTC:20240416T123000
DTEND;TZID=UTC:20240416T140000
DTSTAMP:20260423T160120
CREATED:20240409T093712Z
LAST-MODIFIED:20240409T093840Z
UID:10000188-1713270600-1713276000@lovo.website
SUMMARY:Baking with Giovanni
DESCRIPTION:Learn how to bake with Giovanni\, a baker with years of experience\, as he guides you through a six-week workshop filled with tasty bread and pastries.\n\n 
URL:https://lovo.website/event/baking-with-giovanni/2024-04-16/
LOCATION:LOVO\, 121 Peckham Park Road\, Peckham\, London\, Se15 6SX
ORGANIZER;CN="LOVO":MAILTO:hello@lovo.org.uk
END:VEVENT
END:VCALENDAR