BEGIN:VCALENDAR
VERSION:2.0
PRODID:-//LOVO - ECPv6.3.2//NONSGML v1.0//EN
CALSCALE:GREGORIAN
METHOD:PUBLISH
X-WR-CALNAME:LOVO
X-ORIGINAL-URL:https://lovo.website
X-WR-CALDESC:Events for LOVO
REFRESH-INTERVAL;VALUE=DURATION:PT1H
X-Robots-Tag:noindex
X-PUBLISHED-TTL:PT1H
BEGIN:VTIMEZONE
TZID:UTC
BEGIN:STANDARD
TZOFFSETFROM:+0000
TZOFFSETTO:+0000
TZNAME:UTC
DTSTART:20240101T000000
END:STANDARD
END:VTIMEZONE
BEGIN:VEVENT
DTSTART;TZID=UTC:20240305T110000
DTEND;TZID=UTC:20240305T130000
DTSTAMP:20260425T135146
CREATED:20240122T122231Z
LAST-MODIFIED:20240219T161157Z
UID:10000155-1709636400-1709643600@lovo.website
SUMMARY:Free Support with claiming benefit
DESCRIPTION:Do you wish to claim benefits but do notknow if you\nare eligible nor what benefits you are entitled to as\nwell as how to apply. You can drop in to book an\nappointment with our benefit advisor who will give\nyou support on the way forward\n\n \n\nBy appointment only\nDrop in to book an appointment
URL:https://lovo.website/event/free-support-with-claiming-benefit/2024-03-05/
LOCATION:LOVO\, 121 Peckham Park Road\, Peckham\, London\, Se15 6SX
CATEGORIES:WorkShop
ORGANIZER;CN="LOVO":MAILTO:hello@lovo.org.uk
END:VEVENT
BEGIN:VEVENT
DTSTART;TZID=UTC:20240305T133000
DTEND;TZID=UTC:20240305T141500
DTSTAMP:20260425T135146
CREATED:20240122T121308Z
LAST-MODIFIED:20240219T155334Z
UID:10000137-1709645400-1709648100@lovo.website
SUMMARY:Free Six Weeks Gratitude Support Group
DESCRIPTION:A facilitated six weeks support group focusing on the\npositive benefits of gratitude for mental and\nemotional well-being\, with lively interactive themed\ndiscussions\, and an opportunity to practice gratitude.\nThis is a non clinical activity that is c
URL:https://lovo.website/event/free-six-weeks-gratitude-support-group/2024-03-05/
LOCATION:LOVO\, 121 Peckham Park Road\, Peckham\, London\, Se15 6SX
CATEGORIES:WorkShop
ORGANIZER;CN="LOVO":MAILTO:hello@lovo.org.uk
END:VEVENT
END:VCALENDAR